BEGIN:VCALENDAR
VERSION:2.0
PRODID:-//NADI Kg Awah - ECPv6.15.20//NONSGML v1.0//EN
CALSCALE:GREGORIAN
METHOD:PUBLISH
X-WR-CALNAME:NADI Kg Awah
X-ORIGINAL-URL:https://kgawah.nadi.my
X-WR-CALDESC:Events for NADI Kg Awah
REFRESH-INTERVAL;VALUE=DURATION:PT1H
X-Robots-Tag:noindex
X-PUBLISHED-TTL:PT1H
BEGIN:VTIMEZONE
TZID:Asia/Kuala_Lumpur
BEGIN:STANDARD
TZOFFSETFROM:+0800
TZOFFSETTO:+0800
TZNAME:+08
DTSTART:20240101T000000
END:STANDARD
END:VTIMEZONE
BEGIN:VEVENT
DTSTART;TZID=Asia/Kuala_Lumpur:20251012T080000
DTEND;TZID=Asia/Kuala_Lumpur:20251012T170000
DTSTAMP:20260424T230630
CREATED:20251012T061655Z
LAST-MODIFIED:20251012T061655Z
UID:4132-1760256000-1760288400@kgawah.nadi.my
SUMMARY:ESPORT
DESCRIPTION:
URL:https://kgawah.nadi.my/event/esport/
END:VEVENT
BEGIN:VEVENT
DTSTART;TZID=Asia/Kuala_Lumpur:20251013T080000
DTEND;TZID=Asia/Kuala_Lumpur:20251013T170000
DTSTAMP:20260424T230630
CREATED:20251012T065403Z
LAST-MODIFIED:20251012T065403Z
UID:4134-1760342400-1760374800@kgawah.nadi.my
SUMMARY:KIDVENTURE
DESCRIPTION:
URL:https://kgawah.nadi.my/event/kidventure-2/
END:VEVENT
BEGIN:VEVENT
DTSTART;TZID=Asia/Kuala_Lumpur:20251015T080000
DTEND;TZID=Asia/Kuala_Lumpur:20251015T170000
DTSTAMP:20260424T230630
CREATED:20251015T065923Z
LAST-MODIFIED:20251015T065923Z
UID:4141-1760515200-1760547600@kgawah.nadi.my
SUMMARY:MAHIR MASAK
DESCRIPTION:
URL:https://kgawah.nadi.my/event/mahir-masak-2/
END:VEVENT
BEGIN:VEVENT
DTSTART;TZID=Asia/Kuala_Lumpur:20251015T080000
DTEND;TZID=Asia/Kuala_Lumpur:20251015T170000
DTSTAMP:20260424T230630
CREATED:20251015T070023Z
LAST-MODIFIED:20251015T070023Z
UID:4145-1760515200-1760547600@kgawah.nadi.my
SUMMARY:WELLBEING
DESCRIPTION:
URL:https://kgawah.nadi.my/event/wellbeing/
END:VEVENT
BEGIN:VEVENT
DTSTART;TZID=Asia/Kuala_Lumpur:20251016T080000
DTEND;TZID=Asia/Kuala_Lumpur:20251016T170000
DTSTAMP:20260424T230630
CREATED:20251015T065958Z
LAST-MODIFIED:20251015T065958Z
UID:4143-1760601600-1760634000@kgawah.nadi.my
SUMMARY:DILEA REVISION
DESCRIPTION:
URL:https://kgawah.nadi.my/event/dilea-revision/
END:VEVENT
BEGIN:VEVENT
DTSTART;TZID=Asia/Kuala_Lumpur:20251016T080000
DTEND;TZID=Asia/Kuala_Lumpur:20251016T170000
DTSTAMP:20260424T230630
CREATED:20251015T070052Z
LAST-MODIFIED:20251015T070052Z
UID:4147-1760601600-1760634000@kgawah.nadi.my
SUMMARY:AWARENESS
DESCRIPTION:
URL:https://kgawah.nadi.my/event/awareness/
END:VEVENT
BEGIN:VEVENT
DTSTART;TZID=Asia/Kuala_Lumpur:20251016T080000
DTEND;TZID=Asia/Kuala_Lumpur:20251016T170000
DTSTAMP:20260424T230630
CREATED:20251015T070225Z
LAST-MODIFIED:20251015T070225Z
UID:4151-1760601600-1760634000@kgawah.nadi.my
SUMMARY:COHORT 5
DESCRIPTION:
URL:https://kgawah.nadi.my/event/cohort-5/
END:VEVENT
BEGIN:VEVENT
DTSTART;TZID=Asia/Kuala_Lumpur:20251016T080000
DTEND;TZID=Asia/Kuala_Lumpur:20251031T170000
DTSTAMP:20260424T230630
CREATED:20251012T065542Z
LAST-MODIFIED:20251012T065542Z
UID:4136-1760601600-1761930000@kgawah.nadi.my
SUMMARY:DILEA
DESCRIPTION:
URL:https://kgawah.nadi.my/event/dilea/
END:VEVENT
BEGIN:VEVENT
DTSTART;TZID=Asia/Kuala_Lumpur:20251017T080000
DTEND;TZID=Asia/Kuala_Lumpur:20251017T170000
DTSTAMP:20260424T230630
CREATED:20251015T070308Z
LAST-MODIFIED:20251015T070308Z
UID:4153-1760688000-1760720400@kgawah.nadi.my
SUMMARY:DILEA REVISION
DESCRIPTION:
URL:https://kgawah.nadi.my/event/dilea-revision-2/
END:VEVENT
BEGIN:VEVENT
DTSTART;TZID=Asia/Kuala_Lumpur:20251018T080000
DTEND;TZID=Asia/Kuala_Lumpur:20251018T170000
DTSTAMP:20260424T230630
CREATED:20251015T070148Z
LAST-MODIFIED:20251015T070148Z
UID:4149-1760774400-1760806800@kgawah.nadi.my
SUMMARY:TINY TECHIES
DESCRIPTION:
URL:https://kgawah.nadi.my/event/tiny-techies/
END:VEVENT
END:VCALENDAR