BEGIN:VCALENDAR
VERSION:2.0
PRODID:-//NADI Kg Awah - ECPv6.15.20//NONSGML v1.0//EN
CALSCALE:GREGORIAN
METHOD:PUBLISH
X-WR-CALNAME:NADI Kg Awah
X-ORIGINAL-URL:https://kgawah.nadi.my
X-WR-CALDESC:Events for NADI Kg Awah
REFRESH-INTERVAL;VALUE=DURATION:PT1H
X-Robots-Tag:noindex
X-PUBLISHED-TTL:PT1H
BEGIN:VTIMEZONE
TZID:Asia/Kuala_Lumpur
BEGIN:STANDARD
TZOFFSETFROM:+0800
TZOFFSETTO:+0800
TZNAME:+08
DTSTART:20250101T000000
END:STANDARD
END:VTIMEZONE
BEGIN:VEVENT
DTSTART;TZID=Asia/Kuala_Lumpur:20260128T080000
DTEND;TZID=Asia/Kuala_Lumpur:20260128T170000
DTSTAMP:20260421T183946
CREATED:20260128T012101Z
LAST-MODIFIED:20260128T012101Z
UID:4275-1769587200-1769619600@kgawah.nadi.my
SUMMARY:MAHIR JAHIT
DESCRIPTION:
URL:https://kgawah.nadi.my/event/mahir-jahit/
END:VEVENT
BEGIN:VEVENT
DTSTART;TZID=Asia/Kuala_Lumpur:20260128T080000
DTEND;TZID=Asia/Kuala_Lumpur:20260128T170000
DTSTAMP:20260421T183946
CREATED:20260128T012135Z
LAST-MODIFIED:20260128T012135Z
UID:4277-1769587200-1769619600@kgawah.nadi.my
SUMMARY:MAHIR PERTANIAN
DESCRIPTION:
URL:https://kgawah.nadi.my/event/mahir-pertanian/
END:VEVENT
END:VCALENDAR