BEGIN:VCALENDAR
VERSION:2.0
PRODID:-//NADI Kg Awah - ECPv6.15.20//NONSGML v1.0//EN
CALSCALE:GREGORIAN
METHOD:PUBLISH
X-WR-CALNAME:NADI Kg Awah
X-ORIGINAL-URL:https://kgawah.nadi.my
X-WR-CALDESC:Events for NADI Kg Awah
REFRESH-INTERVAL;VALUE=DURATION:PT1H
X-Robots-Tag:noindex
X-PUBLISHED-TTL:PT1H
BEGIN:VTIMEZONE
TZID:Asia/Kuala_Lumpur
BEGIN:STANDARD
TZOFFSETFROM:+0800
TZOFFSETTO:+0800
TZNAME:+08
DTSTART:20240101T000000
END:STANDARD
END:VTIMEZONE
BEGIN:VEVENT
DTSTART;TZID=Asia/Kuala_Lumpur:20251101T080000
DTEND;TZID=Asia/Kuala_Lumpur:20251107T170000
DTSTAMP:20260423T063226
CREATED:20251105T021722Z
LAST-MODIFIED:20251105T021722Z
UID:4177-1761984000-1762534800@kgawah.nadi.my
SUMMARY:KIDVENTURE
DESCRIPTION:
URL:https://kgawah.nadi.my/event/kidventure-3/
END:VEVENT
BEGIN:VEVENT
DTSTART;TZID=Asia/Kuala_Lumpur:20251103T080000
DTEND;TZID=Asia/Kuala_Lumpur:20251109T170000
DTSTAMP:20260423T063226
CREATED:20251105T022403Z
LAST-MODIFIED:20251105T022403Z
UID:4183-1762156800-1762707600@kgawah.nadi.my
SUMMARY:DILEA
DESCRIPTION:
URL:https://kgawah.nadi.my/event/dilea-2/
END:VEVENT
BEGIN:VEVENT
DTSTART;TZID=Asia/Kuala_Lumpur:20251107T080000
DTEND;TZID=Asia/Kuala_Lumpur:20251109T170000
DTSTAMP:20260423T063226
CREATED:20251105T022319Z
LAST-MODIFIED:20251105T022319Z
UID:4181-1762502400-1762707600@kgawah.nadi.my
SUMMARY:WELLBEING
DESCRIPTION:
URL:https://kgawah.nadi.my/event/wellbeing-2/
END:VEVENT
END:VCALENDAR